Workbook

Sheet Orçamento Sintético
A1: ORÇAMENTO SINTÉTICO
B2: Obra | C2: Bancos | E2: B.D.I. | H2: Encargos Sociais
B3: STRIP-OUT CREMERJ | H3: Não Desonerado: embutido nos preços unitário dos insumos de mão de obra, de acordo com as bases.
A4: Orçamento Sintético
A5: Item | B5: Descrição | C5: Und | D5: Quant. | E5: Valor Unit | F5: Valor total sem BDI | G5: Valor Unit com BDI | H5: Total | I5: Peso (%)
A6: 1 | B6: SERVIÇOS INICIAIS | D6: 1 | F6: =F7+F8+F9+F10 -> 0
A7: 1.1 | B7: MOBILIZACAO/DESMOBILIZACAO DE EQUIP. E MO | C7: UN | D7: 1 | F7: =D7*E7 -> 0
A8: 1.2 | B8: ENTRADA DE ENERGIA ELÉTRICA, AÉREA, TRIFÁSICA, COM CAIXA DE EMBUTIR, CABO DE 10 MM2 E DISJUNTOR DIN 50A (NÃO INCLUSO O POSTE DE CONCRETO). AF_12/2025 | C8: UN | D8: 1 | F8: =D8*E8 -> 0
A9: 1.3 | B9: LEVANTAMENTO CADASTRAL DE EDIFICAÇÃO ATÉ 500M2 | C9: UN | D9: 1 | F9: =D9*E9 -> 0
A10: 1.4 | B10: LEVANTAMENTO CADASTRAL DE EDIFICAÇÃO EXCEDENTE ENTRE 501M2 À 2000M2 | C10: m² | D10: 2400 | F10: =D10*E10 -> 0
A11: 2 | B11: SERVIÇOS ADMINISTRATIVOS | D11: 1 | F11: =F12+F13 -> 0
A12: 2.1 | B12: ART de Execução | C12: und | D12: 1 | F12: =D12*E12 -> 0
A13: 2.2 | B13: Taxas de Licenciamento (Ambiental e Prefeitura) | C13: und | D13: 1 | F13: =D13*E13 -> 0
A14: 3 | B14: ADMINISTRAÇÃO LOCAL | D14: 1 | F14: =F15+F16+F17 -> 0
A15: 3.1 | B15: ENGENHEIRO CIVIL DE OBRA JUNIOR COM ENCARGOS COMPLEMENTARES | C15: MES | D15: 1.5 | F15: =D15*E15 -> 0
A16: 3.2 | B16: MESTRE DE OBRAS COM ENCARGOS COMPLEMENTARES | C16: MES | D16: 2 | F16: =D16*E16 -> 0
A17: 3.3 | B17: TÉCNICO EM SEGURANÇA DO TRABALHO COM ENCARGOS COMPLEMENTARES | C17: MES | D17: 2 | F17: =D17*E17 -> 0
A18: 4 | B18: EQUIPAMENTOS | D18: 1 | F18: =F19 -> 0
A19: 4.1 | B19: MARTELETE OU ROMPEDOR PNEUMÁTICO MANUAL, 28 KG, COM SILENCIADOR - CHP DIURNO. AF_07/2016 | C19: CHP | D19: 65 | F19: =D19*E19 -> 0
A20: 5 | B20: PROTEÇÕES | D20: 1 | F20: =F21+F22+F23 -> 0
A21: 5.1 | B21: PROTECOES-PROTECAO PISO DE PAVIMENTO TERREO COM LONA/VINIL | C21: m² | D21: 150 | F21: =D21*E21 -> 0
A22: 5.2 | B22: CHAPA/PAINEL DE MADEIRA COMPENSADA RESINADA E = 8 A 12 MM (PROTEÇÃO RÍGIDA) | C22: m² | D22: 150 | F22: =D22*E22 -> 0
A23: 5.3 | B23: PROTEÇÃO DE FACHADA COM LONAS | C23: m² | D23: 650 | F23: =D23*E23 -> 0
A24: 6 | B24: DEMOLIÇÕES - ARQUITETURA | D24: 1 | F24: =F25+F26+F27+F28+F29+F30+F31+F32+F33+F34+F35+F36+F37 -> 0
A25: 6.1 | B25: REMOÇÃO DE FORROS DE DRYWALL, PVC E FIBROMINERAL, DE FORMA MANUAL, SEM REAPROVEITAMENTO. AF_09/2023 | C25: m² | D25: 1800 | F25: =D25*E25 -> 0
A26: 6.2 | B26: DEMOLIÇÃO DE REVESTIMENTO CERÂMICO, DE FORMA MECANIZADA COM MARTELETE, SEM REAPROVEITAMENTO. AF_09/2023 (PISO) | C26: m² | D26: 1700 | F26: =D26*E26 -> 0
A27: 6.3 | B27: DEMOLICAO MANUAL PISO VINILICO E ARGAM. DE ASSENTAMENTO | C27: m² | D27: 130 | F27: =D27*E27 -> 0
A28: 6.4 | B28: DEMOLIÇÃO DE PISO DE CONCRETO SIMPLES, DE FORMA MECANIZADA COM MARTELETE, SEM REAPROVEITAMENTO. AF_09/2023 | C28: m³ | D28: 80 | F28: =D28*E28 -> 0
A29: 6.5 | B29: Remoção de impermeabilização com manta asfaltica | C29: m² | D29: 500 | F29: =D29*E29 -> 0
A30: 6.6 | B30: DEMOLIÇÃO DE REVESTIMENTO CERÂMICO, DE FORMA MANUAL, SEM REAPROVEITAMENTO. AF_09/2023 (PAREDE) | C30: m² | D30: 750 | F30: =D30*E30 -> 0
A31: 6.7 | B31: DEMOLIÇÃO DE ALVENARIA DE BLOCO FURADO, DE FORMA MANUAL, SEM REAPROVEITAMENTO. AF_09/2023 | C31: m³ | D31: 241 | F31: =D31*E31 -> 0
A32: 6.8 | B32: REMOÇÃO DE PORTAS, DE FORMA MANUAL, SEM REAPROVEITAMENTO. AF_09/2023 | C32: m² | D32: 180 | F32: =D32*E32 -> 0
A33: 6.9 | B33: REMOCAO MANUAL DE BANCADA MARMORE/GRANITO S/REAPROVEITAMENTO | C33: M | D33: 15 | F33: =D33*E33 -> 0
A34: 6.10 | B34: Desmontagem de balcões, armários e mobiliário incorporado | C34: CJ | D34: 1 | F34: =D34*E34 -> 0
A35: 6.11 | B35: Retirada de divisória tipo naval | C35: m² | D35: 200 | F35: =D35*E35 -> 0
A36: 6.12 | B36: REMOÇÃO DE VIDRO LISO COMUM DE ESQUADRIA COM BAGUETE DE MADEIRA. AF_11/2025 (M2) | C36: m² | D36: 54 | F36: =D36*E36 -> 0
A37: 6.13 | B37: REMOÇÃO DE VIDRO TEMPERADO FIXADO EM PERFIL U. AF_11/2025 (M2) | C37: m² | D37: 16 | F37: =D37*E37 -> 0
A38: 7 | B38: DEMOLIÇÃO - INSTALAÇOES ELÉTRICAS | D38: 1 | F38: =F39+F40+F41+F42+F43+F44 -> 0
A39: 7.1 | B39: Mapeamento, desligamento, bloqueio e etiquetagem de circuitos | C39: UND | D39: 1 | F39: =D39*E39 -> 0
A40: 7.2 | B40: REMOÇÃO DE LUMINÁRIAS, DE FORMA MANUAL, SEM REAPROVEITAMENTO. AF_09/2023 | C40: UN | D40: 250 | F40: =D40*E40 -> 0
...

Sheet Orçamento Analítico
A1: ORÇAMENTO ANALÍTICO
B2: Obra | C2: Bancos | E2: B.D.I. | G2: Encargos Sociais
B3: STRIP-OUT CREMERJ | G3: Não Desonerado: embutido nos preços unitário dos insumos de mão de obra, de acordo com as bases.
A4: Planilha Orçamentária Analítica
A5: 1 | B5: SERVIÇOS INICIAIS | H5: 49935.36
A6: 1.1 | B6: Descrição | C6: Tipo | E6: Und | F6: Quant. | G6: Valor Unit | H6: Total
A7: Composição | B7: MOBILIZACAO/DESMOBILIZACAO DE EQUIP. E MO | C7: CONTENCOES | E7: UN | F7: 1
A8: Insumo | B8: MOBILIZACAO/DESMOBILIZACAO/MAO DE OBRA E EQUIP.EMPREIT. | C8: Material | E8: UN | F8: 1
C9: MO sem LS => | D9: 0 | E9: LS => | F9: 0 | G9: MO com LS =>
C10: Valor do BDI => | F10: Valor com BDI =>
E11: Quant. => | F11: 1,00 | G11: Preço Total =>
A13: 1.2 | B13: Descrição | C13: Tipo | E13: Und | F13: Quant. | G13: Valor Unit | H13: Total
A14: Composição | B14: ENTRADA DE ENERGIA ELÉTRICA, AÉREA, TRIFÁSICA, COM CAIXA DE EMBUTIR, CABO DE 10 MM2 E DISJUNTOR DIN 50A (NÃO INCLUSO O POSTE DE CONCRETO). AF_12/2025 | C14: Instalações Elétricas - Rede de Distribuição | E14: UN | F14: 1
A15: Composição Auxiliar | B15: DISJUNTOR TRIPOLAR TIPO DIN, CORRENTE NOMINAL DE 50A - FORNECIMENTO E INSTALAÇÃO. AF_07/2025 | C15: Instalações Elétricas - Quadros, Cabos, Disjuntores, Contatores e Barramentos Blindados | E15: UN | F15: 1
A16: Composição Auxiliar | B16: ELETRODUTO RÍGIDO ROSCÁVEL, PVC, DN 32 MM (1"), PARA CIRCUITOS TERMINAIS, INSTALADO EM PAREDE - FORNECIMENTO E INSTALAÇÃO. AF_03/2023 | C16: Instalações Elétricas - Eletrodutos Embutidos, Cabos, Caixas, Tomadas e Interruptores | E16: M | F16: 6.05
A17: Composição Auxiliar | B17: ASSENTAMENTO DE POSTE DE CONCRETO COM COMPRIMENTO NOMINAL DE 9 M, CARGA NOMINAL MENOR OU IGUAL A 1000 DAN, ENGASTAMENTO SIMPLES COM 1,5 M DE SOLO (NÃO INCLUI FORNECIMENTO). AF_04/2025 | C17: Postes de Concreto e Metálicos | E17: UN | F17: 1
A18: Composição Auxiliar | B18: ARGAMASSA TRAÇO 1:1:6 (EM VOLUME DE CIMENTO, CAL E AREIA MÉDIA ÚMIDA) PARA EMBOÇO/MASSA ÚNICA/ASSENTAMENTO DE ALVENARIA DE VEDAÇÃO, PREPARO MANUAL. AF_08/2019 | C18: Argamassas | E18: m³ | F18: 0.0194
A19: Composição Auxiliar | B19: AUXILIAR DE ELETRICISTA COM ENCARGOS COMPLEMENTARES | C19: Livro SINAPI: Cálculos e Parâmetros | E19: H | F19: 0.5238
A20: Composição Auxiliar | B20: ELETRICISTA COM ENCARGOS COMPLEMENTARES | C20: Livro SINAPI: Cálculos e Parâmetros | E20: H | F20: 2.619
A21: Composição Auxiliar | B21: CABO DE COBRE FLEXÍVEL ISOLADO, 10 MM², ANTI-CHAMA 0,6/1,0 KV, PARA CIRCUITOS TERMINAIS - FORNECIMENTO E INSTALAÇÃO. AF_03/2023 | C21: Instalações Elétricas - Eletrodutos Embutidos, Cabos, Caixas, Tomadas e Interruptores | E21: M | F21: 22.2
A22: Composição Auxiliar | B22: CURVA 180 GRAUS PARA ELETRODUTO, PVC, ROSCÁVEL, DN 32 MM (1"), PARA CIRCUITOS TERMINAIS, INSTALADA EM PAREDE - FORNECIMENTO E INSTALAÇÃO. AF_03/2023 | C22: Instalações Elétricas - Eletrodutos Embutidos, Cabos, Caixas, Tomadas e Interruptores | E22: UN | F22: 1
A23: Composição Auxiliar | B23: LUVA PARA ELETRODUTO, PVC, ROSCÁVEL, DN 32 MM (1"), PARA CIRCUITOS TERMINAIS, INSTALADA EM PAREDE - FORNECIMENTO E INSTALAÇÃO. AF_03/2023 | C23: Instalações Elétricas - Eletrodutos Embutidos, Cabos, Caixas, Tomadas e Interruptores | E23: UN | F23: 1
A24: Composição Auxiliar | B24: HASTE DE ATERRAMENTO, DIÂMETRO 3/4", COM 3 METROS - FORNECIMENTO E INSTALAÇÃO. AF_08/2023 | C24: Sistema de Proteção contra Descargas Atmosféricas - SPDA | E24: UN | F24: 1
A25: Composição Auxiliar | B25: CURVA 90 GRAUS PARA ELETRODUTO, PVC, ROSCÁVEL, DN 32 MM (1"), PARA CIRCUITOS TERMINAIS, INSTALADA EM PAREDE - FORNECIMENTO E INSTALAÇÃO. AF_03/2023 | C25: Instalações Elétricas - Eletrodutos Embutidos, Cabos, Caixas, Tomadas e Interruptores | E25: UN | F25: 1
... A36: Insumo | B36: VERGALHAO ZINCADO ROSCA TOTAL, 1/4" (6,3 MM) | C36: Material | E36: M | F36: 0.1664
C37: MO sem LS => | E37: LS => | F37: 0 | G37: MO com LS =>
C38: Valor do BDI => | F38: Valor com BDI =>
E39: Quant. => | F39: 1,00 | G39: Preço Total =>
A41: 1.3 | B41: Descrição | C41: Tipo | E41: Und | F41: Quant. | G41: Valor Unit | H41: Total
A42: Composição | B42: LEVANTAMENTO CADASTRAL DE EDIFICAÇÃO ATÉ 500M2 | C42: Edificação | E42: UN | F42: 1
A43: Insumo | B43: DESENHISTA CADISTA (SGSP) | C43: Mão de Obra | E43: mes | F43: 24
A44: Insumo | B44: ENGENHEIRO/ ARQUITETO JÚNIOR - ATÉ 5 ANOS DE EXPERIÊNCIA (SGSP) | C44: Mão de Obra | E44: mes | F44: 8
A45: Insumo | B45: AJUDANTE OU AUXILIAR DE TOPOGRAFIA (SGSP) | C45: Mão de Obra | E45: mes | F45: 16
A46: Insumo | B46: TOPÓGRAFO (SGSP) | C46: Mão de Obra | E46: mes | F46: 16
C47: MO sem LS => | E47: LS => | F47: 0 | G47: MO com LS =>
C48: Valor do BDI => | F48: Valor com BDI =>
E49: Quant. => | F49: 1,00 | G49: Preço Total =>
A51: 1.4 | B51: Descrição | C51: Tipo | E51: Und | F51: Quant. | G51: Valor Unit | H51: Total
A52: Composição | B52: LEVANTAMENTO CADASTRAL DE EDIFICAÇÃO EXCEDENTE ENTRE 501M2 À 2000M2 | C52: Edificação | E52: m² | F52: 1
A53: Insumo | B53: DESENHISTA CADISTA (SGSP) | C53: Mão de Obra | E53: mes | F53: 0.0408
...

Sheet Curva ABC de Serviços
A1: CURVA ABC DE SERVIÇOS
C2: Obra | D2: Bancos | F2: B.D.I. | I2: Encargos Sociais
C3: STRIP-OUT CREMERJ | I3: Não Desonerado: embutido nos preços unitário dos insumos de mão de obra, de acordo com as bases.
A5: Código | B5: Banco | C5: Descrição | D5: Und | E5: Quant. | F5: Valor Unit | G5: Valor total sem BDI | H5: Valor Unit com BDI | I5: Total | J5: Peso (%)
A6: 012334 | B6: SBC | C6: ALUGUEL DE CACAMBA 48 HORAS 5m3 (PRECO MEDIO) | D6: UN | E6: ='Memorial de cálculo'!N218 -> 109 | J6: =I6/G53 -> #DIV/0!
A7: 93565 | B7: SINAPI | C7: ENGENHEIRO CIVIL DE OBRA JUNIOR COM ENCARGOS COMPLEMENTARES | D7: MES | E7: 1.5 | J7: =I7/G53 -> #DIV/0!
A8: 94295 | B8: SINAPI | C8: MESTRE DE OBRAS COM ENCARGOS COMPLEMENTARES | D8: MES | E8: 2 | J8: =I8/G53 -> #DIV/0!
A9: 97633 | B9: SINAPI | C9: DEMOLIÇÃO DE REVESTIMENTO CERÂMICO, DE FORMA MANUAL, SEM REAPROVEITAMENTO. AF_09/2023 (PAREDE) | D9: m² | E9: 750 | J9: =I9/G53 -> #DIV/0!
A10: 97622 | B10: SINAPI | C10: DEMOLIÇÃO DE ALVENARIA DE BLOCO FURADO, DE FORMA MANUAL, SEM REAPROVEITAMENTO. AF_09/2023 | D10: m³ | E10: 241 | J10: =I10/G53 -> #DIV/0!
A11: 100321 | B11: SINAPI | C11: TÉCNICO EM SEGURANÇA DO TRABALHO COM ENCARGOS COMPLEMENTARES | D11: MES | E11: 2 | J11: =I11/G53 -> #DIV/0!
A12: 97634 | B12: SINAPI | C12: DEMOLIÇÃO DE REVESTIMENTO CERÂMICO, DE FORMA MECANIZADA COM MARTELETE, SEM REAPROVEITAMENTO. AF_09/2023 (PISO) | D12: m² | E12: 1700 | J12: =I12/G53 -> #DIV/0!
A13: 20003071 | B13: SIURB | C13: LEVANTAMENTO CADASTRAL DE EDIFICAÇÃO EXCEDENTE ENTRE 501M2 À 2000M2 | D13: m² | E13: 2400 | J13: =I13/G53 -> #DIV/0!
A14: 021101 | B14: SBC | C14: MOBILIZACAO/DESMOBILIZACAO DE EQUIP. E MO | D14: UN | E14: 1 | J14: =I14/G53 -> #DIV/0!
A15: 104790 | B15: SINAPI | C15: DEMOLIÇÃO DE PISO DE CONCRETO SIMPLES, DE FORMA MECANIZADA COM MARTELETE, SEM REAPROVEITAMENTO. AF_09/2023 | D15: m³ | E15: 80 | J15: =I15/G53 -> #DIV/0!
A16: 055 | B16: Próprio | C16: Taxas de Licenciamento (Ambiental e Prefeitura) | D16: und | E16: 1 | J16: =I16/G53 -> #DIV/0!
A17: 007 | B17: Próprio | C17: Desmontagem de balcões, armários e mobiliário incorporado | D17: CJ | E17: 1 | J17: =I17/G53 -> #DIV/0!
A18: 2450 | B18: ORSE | C18: Limpeza geral | D18: m² | E18: 2400 | J18: =I18/G53 -> #DIV/0!
A19: 12631 | B19: ORSE | C19: Retirada de divisória tipo naval | D19: m² | E19: 200 | J19: =I19/G53 -> #DIV/0!
A20: 97640 | B20: SINAPI | C20: REMOÇÃO DE FORROS DE DRYWALL, PVC E FIBROMINERAL, DE FORMA MANUAL, SEM REAPROVEITAMENTO. AF_09/2023 | D20: m² | E20: 1800 | J20: =I20/G53 -> #DIV/0!
A21: 104792 | B21: SINAPI | C21: REMOÇÃO DE CABOS ELÉTRICOS, COM SEÇÃO DE ATÉ 2,5 MM², DE FORMA MANUAL, SEM REAPROVEITAMENTO. AF_09/2023 | D21: M | E21: 8940.75 | J21: =I21/G53 -> #DIV/0!
A22: 20003070 | B22: SIURB | C22: LEVANTAMENTO CADASTRAL DE EDIFICAÇÃO ATÉ 500M2 | D22: UN | E22: 1 | J22: =I22/G53 -> #DIV/0!
A23: 00043681 | B23: SINAPI | C23: CHAPA/PAINEL DE MADEIRA COMPENSADA RESINADA E = 8 A 12 MM (PROTEÇÃO RÍGIDA) | D23: m² | E23: 150 | J23: =I23/G53 -> #DIV/0!
A24: 106711 | B24: SINAPI | C24: CARGA, MANOBRA E DESCARGA DE CAÇAMBA DE ENTULHO EM CAMINHÃO POLIGUINDASTE 8 M3. AF_02/2026 | D24: m³ | E24: ='Memorial de cálculo'!N222 -> 543 | J24: =I24/G53 -> #DIV/0!
A25: 7218 | B25: ORSE | C25: Remoção de impermeabilização com manta asfaltica | D25: m² | E25: 500 | J25: =I25/G53 -> #DIV/0!
A26: 014 | B26: Próprio | C26: Fechamento, drenagem, tamponamento e identificação de redes | D26: UN | E26: 70 | J26: =I26/G53 -> #DIV/0!
A27: 015 | B27: Próprio | C27: Desmontagem de pontos, racks secundários e cabeamento lógico | D27: UN | E27: 1 | J27: =I27/G53 -> #DIV/0!
A28: 022876 | B28: SBC | C28: DEMOLICAO MANUAL PISO VINILICO E ARGAM. DE ASSENTAMENTO | D28: m² | E28: 130 | J28: =I28/G53 -> #DIV/0!
A29: 97644 | B29: SINAPI | C29: REMOÇÃO DE PORTAS, DE FORMA MANUAL, SEM REAPROVEITAMENTO. AF_09/2023 | D29: m² | E29: 180 | J29: =I29/G53 -> #DIV/0!
A30: 5795 | B30: SINAPI | C30: MARTELETE OU ROMPEDOR PNEUMÁTICO MANUAL, 28 KG, COM SILENCIADOR - CHP DIURNO. AF_07/2016 | D30: CHP | E30: 65 | J30: =I30/G53 -> #DIV/0!
A31: 016 | B31: Próprio | C31: PROTEÇÃO DE FACHADA COM LONAS | D31: m² | E31: 650 | J31: =I31/G53 -> #DIV/0!
A32: 101509 | B32: SINAPI | C32: ENTRADA DE ENERGIA ELÉTRICA, AÉREA, TRIFÁSICA, COM CAIXA DE EMBUTIR, CABO DE 10 MM2 E DISJUNTOR DIN 50A (NÃO INCLUSO O POSTE DE CONCRETO). AF_12/2025 | D32: UN | E32: 1 | J32: =I32/G53 -> #DIV/0!
A33: 013 | B33: Próprio | C33: Desmontagem e movimentação de chiller/compressor ou equivalente | D33: UN | E33: 1 | J33: =I33/G53 -> #DIV/0!
A34: 008 | B34: Próprio | C34: Mapeamento, desligamento, bloqueio e etiquetagem de circuitos | D34: UND | E34: 1 | J34: =I34/G53 -> #DIV/0!
A35: 012 | B35: Próprio | C35: RETIRADA DE DUTOS INTERNOS | D35: M | E35: 50 | J35: =I35/G53 -> #DIV/0!
A36: 009 | B36: Próprio | C36: Inventário técnico e plano de desativação de climatização | D36: UND | E36: 1 | J36: =I36/G53 -> #DIV/0!
A37: 023101 | B37: SBC | C37: PROTECOES-PROTECAO PISO DE PAVIMENTO TERREO COM LONA/VINIL | D37: m² | E37: 150 | J37: =I37/G53 -> #DIV/0!
A38: 011 | B38: Próprio | C38: RETIRADA DE DIFUSORES E GRELHAS | D38: UN | E38: 20 | J38: =I38/G53 -> #DIV/0!
A39: 102190 | B39: SINAPI | C39: REMOÇÃO DE VIDRO LISO COMUM DE ESQUADRIA COM BAGUETE DE MADEIRA. AF_11/2025 (M2) | D39: m² | E39: 54 | J39: =I39/G53 -> #DIV/0!
A40: 97664 | B40: SINAPI | C40: REMOÇÃO DE ACESSÓRIOS, DE FORMA MANUAL, SEM REAPROVEITAMENTO. AF_09/2023 | D40: UN | E40: 500 | J40: =I40/G53 -> #DIV/0!
A41: 97663 | B41: SINAPI | C41: REMOÇÃO DE LOUÇAS, DE FORMA MANUAL, SEM REAPROVEITAMENTO. AF_09/2023 | D41: UN | E41: 40 | J41: =I41/G53 -> #DIV/0!
...

Sheet Cronograma
A1: CRONOGRAMA FÍSICO E FINANCEIRO
B2: Obra | C2: Bancos | D2: B.D.I. | E2: Encargos Sociais
B3: STRIP-OUT CREMERJ | E3: Não Desonerado: embutido nos preços unitário dos insumos de mão de obra, de acordo com as bases.
A5: Item | B5: Descrição | C5: Total Por Etapa | D5: 30 DIAS | E5: 60 DIAS
A6: 1 | B6: SERVIÇOS INICIAIS | C6: 1 | D6: 1 | E6: 0
C7: ='Orçamento Sintético'!H6 -> 0 | D7: =C7 -> 0
A8: 2 | B8: SERVIÇOS ADMINISTRATIVOS | C8: 1 | D8: 0.5 | E8: 0.5
C9: ='Orçamento Sintético'!H11 -> 0 | D9: =D8*C9 -> 0 | E9: =C9*E8 -> 0
A10: 3 | B10: ADMINISTRAÇÃO LOCAL | C10: 1 | D10: 0.5 | E10: 0.5
C11: ='Orçamento Sintético'!H14 -> 0 | D11: =C11*D10 -> 0 | E11: =C11*E10 -> 0
A12: 4 | B12: EQUIPAMENTOS | C12: 1 | D12: 0.5 | E12: 0.5
C13: ='Orçamento Sintético'!H18 -> 0 | D13: =D12*C13 -> 0 | E13: =C13*E12 -> 0
A14: 5 | B14: PROTEÇÕES | C14: 1 | D14: 0.5 | E14: 0.5
C15: ='Orçamento Sintético'!H20 -> 0 | D15: =D14*C15 -> 0 | E15: =C15*E14 -> 0
A16: 6 | B16: DEMOLIÇÕES - ARQUITETURA | C16: 1 | D16: 0.4 | E16: 0.6
C17: ='Orçamento Sintético'!H24 -> 0 | D17: =D16*C17 -> 0 | E17: =C17*E16 -> 0
A18: 7 | B18: DEMOLIÇÃO - INSTALAÇOES ELÉTRICAS | C18: 1 | D18: 0.5 | E18: 0.5
C19: ='Orçamento Sintético'!H38 -> 0 | D19: =D18*C19 -> 0 | E19: =C19*E18 -> 0
A20: 8 | B20: DEMOLIÇÃO - CLIMATIZAÇÃO | C20: 1 | D20: 0.5 | E20: 0.5
C21: ='Orçamento Sintético'!H45 -> 0 | D21: =D20*C21 -> 0 | E21: =C21*E20 -> 0
A22: 9 | B22: DEMOLIÇÃO - HIDROSSANITÁRIO | C22: 1 | D22: 0.5 | E22: 0.5
C23: ='Orçamento Sintético'!H52 -> 0 | D23: =D22*C23 -> 0 | E23: =C23*E22 -> 0
A24: 10 | B24: LIMPEZA | C24: 1 | D24: 0.2 | E24: 0.8
C25: ='Orçamento Sintético'!H56 -> 0 | D25: =D24*C25 -> 0 | E25: =C25*E24 -> 0
A26: Porcentagem | D26: =(D24+D22+D20+D18+D16+D14+D12+D10+D8+D6)/10 -> 0.51 | E26: =(E24+E22+E20+E18+E16+E14+E12+E10+E8+E6)/10 -> 0.49
A27: Custo | D27: =D25+D23+D21+D19+D17+D15+D13+D11+D9+D7 -> 0 | E27: =E25+E23+E21+E19+E17+E15+E13+E11+E9+E7 -> 0
A28: Porcentagem Acumulado | D28: =D26 -> 0.51 | E28: =D26+E26 -> 1
A29: Custo Acumulado | D29: =D27 -> 0 | E29: =D27+E27 -> 0

Sheet BDI
A1: ANEXO - PLANILHA BDI
A2: Item | B2: Descrição | C2: %
A3: 1 | B3: ADMINSTRAÇÃO CENTRAL
A4: 2 | B4: LUCRO
A5: 3. | B5: DESPESAS FINANCEIRAS
A6: 4. | B6: SEGUROS, RISCOS e GARANTIAS
A7: 4.1. | B7: Seguros + Garantias
A8: 4.2 | B8: Riscos
A9: 5. | B9: TRIBUTOS
A10: 5.1. | B10: ISS
A11: 5.2. | B11: PIS
A12: 5.3. | B12: COFINS
A13: 5.4. | B13: CPRB (INSS)
A14: 6. BDI
A15: Total
A18: Preencher células com fundo branco
B21: onde:
B22: AC - Administração Central
B23: S - Seguro
B24: G - Garantia
B25: DF - Despesas Financeiras
B26: L - Lucro
B27: T - Tributos

Sheet Memorial de cálculo
A1: MEMORIAL DE CÁLCULO
C2: Obra
C3: STRIP-OUT CREMERJ
A4: Memorial de Cálculo
A5: Item | B5: Código | C5: Descrição | M5: Und | N5: Quant.
A6: 1 | C6: SERVIÇOS INICIAIS | N6: 1
A7: 1.1 | B7: 021101 | C7: MOBILIZACAO/DESMOBILIZACAO DE EQUIP. E MO | M7: UN | N7: 1
A8: DESCRIÇÃO | D8: QTD/ TAXA | E8: COMP (M) | F8: LARG (M) | G8: ALT (M) | I8: ÁREA (M²) | J8: VOLUME (M³) | K8: PESO (KG) | L8: DMT (KM) | M8: TRANSPORTE | N8: TOTAL
A9: mobilização e desmobilização da equipe
A11: 1.2 | B11: 101509 | C11: ENTRADA DE ENERGIA ELÉTRICA, AÉREA, TRIFÁSICA, COM CAIXA DE EMBUTIR, CABO DE 10 MM2 E DISJUNTOR DIN 50A (NÃO INCLUSO O POSTE DE CONCRETO). AF_12/2025 | M11: UN | N11: 1
A12: DESCRIÇÃO | D12: QTD/ TAXA | E12: COMP (M) | F12: LARG (M) | G12: ALT (M) | I12: ÁREA (M²) | J12: VOLUME (M³) | K12: PESO (KG) | L12: DMT (KM) | M12: TRANSPORTE | N12: TOTAL
A13: execução de entreada de energia
A15: 1.3 | B15: 20003070 | C15: LEVANTAMENTO CADASTRAL DE EDIFICAÇÃO ATÉ 500M2 | M15: UN | N15: 1
A16: DESCRIÇÃO | D16: QTD/ TAXA | E16: COMP (M) | F16: LARG (M) | G16: ALT (M) | I16: ÁREA (M²) | J16: VOLUME (M³) | K16: PESO (KG) | L16: DMT (KM) | M16: TRANSPORTE | N16: TOTAL
A17: levantamento da estrutura | D17: 1 | I17: 500
A19: 1.4 | B19: 20003071 | C19: LEVANTAMENTO CADASTRAL DE EDIFICAÇÃO EXCEDENTE ENTRE 501M2 À 2000M2 | M19: m² | N19: =N21+N22+N23+N24+N25 -> 2400
A20: DESCRIÇÃO | D20: QTD/ TAXA | E20: COMP (M) | F20: LARG (M) | G20: ALT (M) | I20: ÁREA (M²) | J20: VOLUME (M³) | K20: PESO (KG) | L20: DMT (KM) | M20: TRANSPORTE | N20: TOTAL
A21: estimativa de áreas subsolo | D21: 1 | I21: 620 | N21: =I21*D21 -> 620
A22: estimativa de áreas térreo | D22: 1 | I22: 460 | N22: =I22*D22 -> 460
A23: estimativa de áreas 2 pavimento | D23: 1 | I23: 320 | N23: =I23*D23 -> 320
A24: estimativa de áreas 3 pavimento | D24: 1 | I24: 500 | N24: =I24*D24 -> 500
A25: estimativa de áreas cobertura | D25: 1 | I25: 500 | N25: =I25*D25 -> 500
A27: 2 | C27: SERVIÇOS ADMINISTRATIVOS | N27: 1
A28: 2.1 | B28: 004 | C28: ART de Execução | M28: und | N28: 1
A29: DESCRIÇÃO | D29: QTD/ TAXA | E29: COMP (M) | F29: LARG (M) | G29: ALT (M) | I29: ÁREA (M²) | J29: VOLUME (M³) | K29: PESO (KG) | L29: DMT (KM) | M29: TRANSPORTE | N29: TOTAL
A30: ART de Execução | D30: 1
A32: 2.2 | B32: 055 | C32: Taxas de Licenciamento (Ambiental e Prefeitura) | M32: und | N32: 1
A33: DESCRIÇÃO | D33: QTD/ TAXA | E33: COMP (M) | F33: LARG (M) | G33: ALT (M) | I33: ÁREA (M²) | J33: VOLUME (M³) | K33: PESO (KG) | L33: DMT (KM) | M33: TRANSPORTE | N33: TOTAL
A34: estimativa de taxas necessárias | D34: 1
A36: 3 | C36: ADMINISTRAÇÃO LOCAL | N36: 1
A37: 3.1 | B37: 93565 | C37: ENGENHEIRO CIVIL DE OBRA JUNIOR COM ENCARGOS COMPLEMENTARES | M37: MES | N37: =D39 -> 1.5
A38: DESCRIÇÃO | D38: QTD/ TAXA | E38: COMP (M) | F38: LARG (M) | G38: ALT (M) | I38: ÁREA (M²) | J38: VOLUME (M³) | K38: PESO (KG) | L38: DMT (KM) | M38: TRANSPORTE | N38: TOTAL
A39: Horas de administração no local | D39: 1.5
A41: 3.2 | B41: 94295 | C41: MESTRE DE OBRAS COM ENCARGOS COMPLEMENTARES | M41: MES | N41: =D43 -> 2
A42: DESCRIÇÃO | D42: QTD/ TAXA | E42: COMP (M) | F42: LARG (M) | G42: ALT (M) | I42: ÁREA (M²) | J42: VOLUME (M³) | K42: PESO (KG) | L42: DMT (KM) | M42: TRANSPORTE | N42: TOTAL
A43: Horas de administração no local | D43: 2
A45: 3.3 | B45: 100321 | C45: TÉCNICO EM SEGURANÇA DO TRABALHO COM ENCARGOS COMPLEMENTARES | M45: MES | N45: =D47 -> 2
A46: DESCRIÇÃO | D46: QTD/ TAXA | E46: COMP (M) | F46: LARG (M) | G46: ALT (M) | I46: ÁREA (M²) | J46: VOLUME (M³) | K46: PESO (KG) | L46: DMT (KM) | M46: TRANSPORTE | N46: TOTAL
A47: Horas de administração no local | D47: 2
A49: 4 | C49: EQUIPAMENTOS | N49: 1
...
